BEGIN:VCALENDAR
VERSION:2.0
PRODID:-//Sex-positive - ECPv6.15.17.1//NONSGML v1.0//EN
CALSCALE:GREGORIAN
METHOD:PUBLISH
X-ORIGINAL-URL:https://sex-positive.com
X-WR-CALDESC:Events for Sex-positive
REFRESH-INTERVAL;VALUE=DURATION:PT1H
X-Robots-Tag:noindex
X-PUBLISHED-TTL:PT1H
BEGIN:VTIMEZONE
TZID:Europe/Berlin
BEGIN:DAYLIGHT
TZOFFSETFROM:+0100
TZOFFSETTO:+0200
TZNAME:CEST
DTSTART:20200329T010000
END:DAYLIGHT
BEGIN:STANDARD
TZOFFSETFROM:+0200
TZOFFSETTO:+0100
TZNAME:CET
DTSTART:20201025T010000
END:STANDARD
BEGIN:DAYLIGHT
TZOFFSETFROM:+0100
TZOFFSETTO:+0200
TZNAME:CEST
DTSTART:20210328T010000
END:DAYLIGHT
BEGIN:STANDARD
TZOFFSETFROM:+0200
TZOFFSETTO:+0100
TZNAME:CET
DTSTART:20211031T010000
END:STANDARD
BEGIN:DAYLIGHT
TZOFFSETFROM:+0100
TZOFFSETTO:+0200
TZNAME:CEST
DTSTART:20220327T010000
END:DAYLIGHT
BEGIN:STANDARD
TZOFFSETFROM:+0200
TZOFFSETTO:+0100
TZNAME:CET
DTSTART:20221030T010000
END:STANDARD
END:VTIMEZONE
BEGIN:VEVENT
DTSTART;TZID=Europe/Berlin:20210630T130000
DTEND;TZID=Europe/Berlin:20210704T180000
DTSTAMP:20260424T101931
CREATED:20210529T133333Z
LAST-MODIFIED:20210602T100952Z
UID:19137-1625058000-1625421600@sex-positive.com
SUMMARY:Mystical Eros - A Cotreated Self-Positive Retreat
DESCRIPTION:Unlock your magic !\n  \n\n4 nights – 5 days (30/06-4/07)  in a quaint private house  with a swimming pool on the outskirts of Paris.\nCeremonies\, rituals\, circles\, collective living\, shared governance\, self-managed workshops.\nBreathwork\, yoni puja\, Zegg Forum\, shadow tantra\, consent games\, and much more!\nA safe container to breathe\, explore\, and play together.\n\n\nEverything you need to know if on our website: \n-> Mystical Eros <-\nThe Theme \n\n\n\nMagic\, spirituality\, and sexuality are not merely means of healing\, but also vehicles for growth and abundance. Rituals and ceremonies are edifying and uplifting collective practices during which we gather together to unlock our desires\, honour our bodies\, and access other states of consciousness. Through radical vulnerability and self-revelation\, we seek to harness our vital force so as to re-enchant and beautify the community of life\, both visible and invisible. \n\nThe Collective \nChatonnade events are based on self-positivity and collective empowerment mainly through the prism of sexuality and other body-positive\, spiritual\, and creative practices. Self-positivity means welcoming all consensual forms of human expression and interaction so that each individual can fully flourish within a collective. We create a container in which everyone can feel free and safe to experiment\, to be authentic\, and to elevate one another.
URL:https://sex-positive.com/event/mystical-eros-a-cotreated-self-positive-retreat/
LOCATION:Paris\, Champigny\, 89340\, France
CATEGORIES:Paris,sensual,sex-positive,tantra,workshop
ATTACH;FMTTYPE=image/jpeg:https://sex-positive.com/wp-content/uploads/2021/05/pexels-cottonbro-6055270-scaled.jpg
END:VEVENT
BEGIN:VEVENT
DTSTART;TZID=Europe/Berlin:20210610T180000
DTEND;TZID=Europe/Berlin:20210613T180000
DTSTAMP:20260424T101931
CREATED:20210511T085251Z
LAST-MODIFIED:20210522T104451Z
UID:18796-1623348000-1623607200@sex-positive.com
SUMMARY:Chatonnade - Feral Intimacy
DESCRIPTION:Fabulous Fabulosities – Feral Intimacy\n[Feral: adj. Return of a domesticated species to a wild state] \nSelf-empowerment retreat centred on\npositive-sexuality\, collective governance\, and communal living\n10-13 June – an hour away from Paris \n  \nIn a few words:\nCeremonies and workshops predominantly about sexual exploration\nA container for people with some experience with events in which sexuality is allowed\, \nAnd\, as always:\nColiving based on the principles of individual freedom\, non-violence\, and care\nA beautiful venue in nature 1h from Paris\nVegetarian and organic food\nDaily shared governance circles \n  \nCovid policy  \nTo reduce COVID risk\, here are the health requirements to come to the event: \n– It is mandatory to present a test (PCR or antigenic) less than 48 hours old in order to come\,\n– It is also requested not to come in case of symptoms or contact case (a total refund will be proposed)\,\n– Finally\, it is requested to inform the organizational team if symptoms appear after the event so that each participant can be tested and isolated if necessary. \n  \nWhat is Chatonnade?  \nChatonnade is a self-positive collective that works for the sexual fulfillment of all. \nSelf-positive is a movement that supports spaces where:\n1/ the different parts of oneself are welcomed\, integrated and honoured in their diversity\,\n2/ everyone is supported to do what is right for them at all times\,\n3/ issues of consent\, consent bias\, and caregiving are central to culture/ education. \n  \nWhat is a FF?  \nFabulous Fabulosities (FF) are a 3-day Chatonnade event formats during which we add a dimension of hands-on exploration around the themes of sexuality and living together \nThis exploration takes place via a mix of guided ceremonies to offer safety/culture and multiple self-directed workshops to offer freedom/exploration. \n  \nWhat will happen concretely?  \nLiterally everything is allowed and nothing is mandatory except the event guidelines. In particular\, various levels of nudity and sexuality are allowed in different spaces. \nThe retreat is guided by the facilitation of 6 circles and ceremonies including 3 ceremonies during the evenings\, one for the closing\, and two circles of shared governance during the day. \nDuring these moments of sharing\, each person will have the opportunity to offer workshops on the themes that inspire them. Each participant will also have the opportunity to browse through the various offerings of the other participants. These workshops will take place in the morning\, afternoon and night. \nIn the evening\, the ceremonies will be guided by our Lead Facilitator. They will focus on safety and connection\, through consent exercises\, connection and authenticity games \nAngels will be present during the stay to support individuals. \n  \nThis is a sex-positive event\, meaning that the ceremonies and workshops offered will be predominantly about sexual exploration. More info on our new theme code  here: https://docs.chatonnade.org/chatonnade/cadre/code-thematique \n  \nWhat about the location?  \nIt is in a beautiful house with a large garden. A private group will be created to allow for coordination of carpools and other trips. The place will be decorated to create a warm and welcoming atmosphere. \nWe will have separate spaces for silence or to get away from sexual interactions if we need to. \nThere will be a limited number of rooms alone for sleeping\, if a person wishes to secure a solitary space for the night/their belongings then it is recommended to bring a tent. \n  \nIs everyone welcome?  \nYes! The only requirement is that you must be at least 18 years old and able to respect the event framework. As a self-positive and sex-positive community\, we are dedicated to embracing diversity and creating a safer space for all. \nOur events welcome individuals regardless of their sex\, gender\, sexual and romantic orientation\, atypicalities\, body type\, ethnicity\, nationality\, age\, religion\, employment status\, sexual experience\, kinks and parasexuality\, body cycle (menstruation)\, triggers and trauma. \nFor first time attendees at one of our events\, we may ask for a recommendation from someone who has attended before. \nThis is a red coloured event\, meaning it is intended for those with some experience with spaces in which sexuality is allowed. During ceremonies\, the right to have sexuality is HIGHER than not wanting to attend .More info on our new color code  here: https://docs.chatonnade.org/chatonnade/cadre/code-couleur \nThe event will be in French and English. Basic knowledge of French is recommended. \nHow do I register?  \nI register directly on the linked ticketing site of the event. \nTickets:\nbelong.li/home/event/lJTiMP6kck7VLFttvRZc\n\nWhen I take my ticket\, I am automatically put on the waiting list\, and my application is studied by the Lead Participant. I will only be charged if my participation is confirmed. \nThe financial participation includes accommodation\, food and facilitation:\n– 220€ for the solidarity price\n– 280€ for the standard price\n– 350€ for the support price \nA conscious pay what you what option is also proposed for people with limited financial resources \nA Chatonnade membership is required to register for the event \nThe retreat will take place from Thursday 6pm to Sunday 6pm. It is mandatory\nIt is mandatory to arrive before 8pm on the first night for the opening circle. \nThere will be a maximum of 40 participants \nIs there a risk of the event being cancelled? \nWe are committed to maintaining the event.\nIf there are less participants than expected\, we will keep the format smaller by finding an adjusted venue! \n  \nCancellation policy \nWe will offer 100% refund in case of total cancellation of the event\, in case of positive covid test and if case-contact\nThere will be no other possible refund cases due to the expenses incurred and the fragile cash flow in this particular context. Thank you for your understanding \n  \nAny other questions?  \nContact Céliane who is Lead Participant.e.s on the event https://www.facebook.com/celiane.evrard \nTechnical questions about Belong ticketing? \nYou can contact Leïo: https://www.facebook.com/leio.mokusei \nTo sign up:\nbelong.li/home/event/lJTiMP6kck7VLFttvRZc\n  \nMuch love from the sexy Kitten team!
URL:https://sex-positive.com/event/chatonnade-feral-intimacy/
LOCATION:Paris\, Champigny\, 89340\, France
CATEGORIES:bdsm,festival,openminded,Paris,professionals,sensual,sex-positive,tantra,workshop
ATTACH;FMTTYPE=image/jpeg:https://sex-positive.com/wp-content/uploads/2021/05/FF-Intimite-Ferale.jpg
END:VEVENT
END:VCALENDAR