BEGIN:VCALENDAR
VERSION:2.0
PRODID:-//Sex-positive - ECPv6.15.17.1//NONSGML v1.0//EN
CALSCALE:GREGORIAN
METHOD:PUBLISH
X-WR-CALNAME:Sex-positive
X-ORIGINAL-URL:https://sex-positive.com
X-WR-CALDESC:Events for Sex-positive
REFRESH-INTERVAL;VALUE=DURATION:PT1H
X-Robots-Tag:noindex
X-PUBLISHED-TTL:PT1H
BEGIN:VTIMEZONE
TZID:UTC
BEGIN:STANDARD
TZOFFSETFROM:+0000
TZOFFSETTO:+0000
TZNAME:UTC
DTSTART:20180101T000000
END:STANDARD
END:VTIMEZONE
BEGIN:VEVENT
DTSTART;TZID=UTC:20190712T220000
DTEND;TZID=UTC:20190713T060000
DTSTAMP:20260424T084824
CREATED:20190702T035005Z
LAST-MODIFIED:20190702T035005Z
UID:16803-1562968800-1562997600@sex-positive.com
SUMMARY:Master & Servant
DESCRIPTION:The Depeche Mode Dance & Play – Party\nDM\, 80s\, EBM\, Dark Wave\, Electro & Goth Rock by DJs Marvin & Toby\nMidnight Fetish Performance by Coco Katsura (Japan)\nBDSM-Playgrounds in the basement hosted by Kamasutra Ninja\, DM Visualisations\, Couples area\, Whirlpool\, Playgrounds\, Cocktails & Fresh Fruits \n\nThis party has become an integral part of Berlin’s Nightlife since it’s start more than 11 Years ago.\nToday we are celebrating the best band of all time\, but as always\, in our very unique way. The legendary songs of Depeche Mode mixed with related music from era and genre will not only be danced to\, but LIVED in dance and passionate play! \n‘Stripped’\, ‘Free Love’\, ‘Sea of ​​Sin’\, ‘A Pain That I’m Used to’ and ‘Strange Love\, etc’ … all the titles inspiring to more than just a wild dance. Anyone who really reads the lyrics of the band\, is repeatedly confronted with the issues of sexuality\, pain\, love\, sensuality and perversions. \nIn this night electro sounds of past decades meet whip cracking and sensual lovemaking when SM encounters DM\, Gothic meets fetish and oldschool meets newschool. \nThis time this unique cocktail is underlined by a very special fetish performance. \nDJ Marvin (Queen of the Night\, Dark Friday) & DJ Toby (Black:Celebration) will not only make Depeche Mode fans happy\, but will also take electric\, Goth Rock\, Darkwave & 80s magic to the dance floor. \nVideo visualizations of Depeche Mode and the atmospheric dungeons of the INSOMNIA\, including jacuzzi\, massage table\, the gallery for thrill-seeking couples and various play areas\, like the BDSM-dungeons in the basement we will open at midnight\, round up this unique experience.
URL:https://sex-positive.com/event/master-servant/
LOCATION:INSOMNIA\, Alt-Tempelhof 17-19\, Berlin\, Berlin\, 12099\, Germany
CATEGORIES:bdsm,Berlin,Bondage,party,sex-positive,swinger
END:VEVENT
END:VCALENDAR